BEGIN:VCALENDAR
VERSION:2.0
PRODID:-//Cub Pack 110 - ECPv5.9.0//NONSGML v1.0//EN
CALSCALE:GREGORIAN
METHOD:PUBLISH
X-WR-CALNAME:Cub Pack 110
X-ORIGINAL-URL:https://cubpack110.com
X-WR-CALDESC:Events for Cub Pack 110
BEGIN:VTIMEZONE
TZID:America/New_York
BEGIN:DAYLIGHT
TZOFFSETFROM:-0500
TZOFFSETTO:-0400
TZNAME:EDT
DTSTART:20200308T070000
END:DAYLIGHT
BEGIN:STANDARD
TZOFFSETFROM:-0400
TZOFFSETTO:-0500
TZNAME:EST
DTSTART:20201101T060000
END:STANDARD
END:VTIMEZONE
BEGIN:VEVENT
DTSTART;TZID=America/New_York:20201114T174500
DTEND;TZID=America/New_York:20201114T200000
DTSTAMP:20260425T231501
CREATED:20201027T234503Z
LAST-MODIFIED:20201029T024514Z
UID:8570-1605375900-1605384000@cubpack110.com
SUMMARY:Fall Family Hayride and Campfire
DESCRIPTION:Join us for our traditional fall hayride and campfire at Highland Orchards on November 14th! The wagon will depart promptly at 6 pm. Around the campfire\, we will enjoy s’mores and a few skits and songs performed by our scouts. Please arrive early to buy Highland Orchards’ famous apple cider and apple cider donuts. \n  \nRegistration:\nRegister early. Space is limited to 15 families (~30 people) to ensure social distance between families on the wagon. Please only sign up registered scouts and one parent/guardian per family unit. This is one of our most popular events and we expect it to sell out quickly. Registration is FIRST COME\, FIRST SERVED. We look forward to seeing you there! \n  \nFood:\nThe pack will provide individual packets of s’mores ingredients (graham crackers\, marshmallows\, and chocolate) to each scout. If you would rather bring your own ingredients\, please do so. \nDon’t forget to purchase Highland Orchards’ famous apple cider and apple cider donuts to enjoy around the campfire too! \n  \nCOVID precautions:\nAs outlined in the Pack 110 COVID-19 Risk Reduction Plan on the pack website\, the health and safety of scouts and their families are our priority. All participants must wear a mask during the hayride and around the campfire.
URL:https://cubpack110.com/event/fall-family-hayride-and-campfire2020/
LOCATION:Highland Orchards\, 1000 Marshallton Thorndale Rd\, West Chester\, PA\, 19380\, United States
CATEGORIES:Pack Events
ATTACH;FMTTYPE=image/jpeg:https://cubpack110.com/wp-content/uploads/2017/09/postImage_hayride.jpg
ORGANIZER;CN="Lauren%20Buckalew":MAILTO:lauren.buckalew@gmail.com
END:VEVENT
END:VCALENDAR