BEGIN:VCALENDAR
VERSION:2.0
PRODID:-//Cub Pack 110 - ECPv5.9.0//NONSGML v1.0//EN
CALSCALE:GREGORIAN
METHOD:PUBLISH
X-WR-CALNAME:Cub Pack 110
X-ORIGINAL-URL:https://cubpack110.com
X-WR-CALDESC:Events for Cub Pack 110
BEGIN:VTIMEZONE
TZID:America/New_York
BEGIN:DAYLIGHT
TZOFFSETFROM:-0500
TZOFFSETTO:-0400
TZNAME:EDT
DTSTART:20200308T070000
END:DAYLIGHT
BEGIN:STANDARD
TZOFFSETFROM:-0400
TZOFFSETTO:-0500
TZNAME:EST
DTSTART:20201101T060000
END:STANDARD
END:VTIMEZONE
BEGIN:VEVENT
DTSTART;TZID=America/New_York:20200509T150000
DTEND;TZID=America/New_York:20200510T100000
DTSTAMP:20260419T134513
CREATED:20180515T133237Z
LAST-MODIFIED:20200422T170314Z
UID:7770-1589036400-1589104800@cubpack110.com
SUMMARY:CANCELLED: Family Camping at Hibernia
DESCRIPTION:COVID-19 Update: To ensure the health and safety of our scouts and their families\, we must cancel our upcoming pack events through the end of May. We will continue to assess the situation\, taking guidance from Chester County Council BSA and state/local officials. Please contact your den leader or any member of the Pack Committee if you have questions. Thank you.\n  \n\n  \nOur June 8th location is the beautiful Hibernia County Park\, full of great wooded trails leading to open space for frisbees and catch\, or a visit down by the lake. This is a great opportunity to explore nature and have some fun outdoors. The boys have a history of good luck fishing on this trip so be sure to bring tour fishing pole (Children do not require fishing licenses. Adults without licenses may only assist with casting). \nPlease contact Brian Denney or RSVP below if you plan on attending.\nEmail: brian.t.denney@nullgmail.com\n \n\nFood Sign-Up\nDirections\nCamp Out Packing List
URL:https://cubpack110.com/event/2019-family-camping-finale-2/
LOCATION:Hibernia Park\, 1 Park Rd\, Coatesville\, PA\, 19320\, United States
CATEGORIES:Pack Events
ORGANIZER;CN="Brian%20Denney":MAILTO:brian.t.denney@gmail.com
END:VEVENT
END:VCALENDAR